BEGIN:VCALENDAR
METHOD:PUBLISH
VERSION:2.0
PRODID:-//Weingut St. Michaels Hof in Worms-Abenheim//WebsiteEvents//DE
BEGIN:VEVENT
UID:event_913@st-michaels-hof.de
DTSTAMP:20250109T084410
DTSTART:20260418T110000
DTEND:20260418T133000
LAST-MODIFIED:20260221T114935
SUMMARY:Planwagenfahrt Gruppen-Termin
URL:https://st-michaels-hof.de/veranstaltungen/planwagenfahrt-gruppen-termin-000913/
LOCATION:Weingut St. Michaels Hof\, Wonnegaustr. 42\, 67550 Worms-Abenheim
END:VEVENT
END:VCALENDAR